BEGIN:VCALENDAR
VERSION:2.0
PRODID:-//ITACC - ECPv6.15.20//NONSGML v1.0//EN
CALSCALE:GREGORIAN
METHOD:PUBLISH
X-ORIGINAL-URL:https://itacchelp.org
X-WR-CALDESC:Events for ITACC
REFRESH-INTERVAL;VALUE=DURATION:PT1H
X-Robots-Tag:noindex
X-PUBLISHED-TTL:PT1H
BEGIN:VTIMEZONE
TZID:America/New_York
BEGIN:DAYLIGHT
TZOFFSETFROM:-0500
TZOFFSETTO:-0400
TZNAME:EDT
DTSTART:20230312T070000
END:DAYLIGHT
BEGIN:STANDARD
TZOFFSETFROM:-0400
TZOFFSETTO:-0500
TZNAME:EST
DTSTART:20231105T060000
END:STANDARD
BEGIN:DAYLIGHT
TZOFFSETFROM:-0500
TZOFFSETTO:-0400
TZNAME:EDT
DTSTART:20240310T070000
END:DAYLIGHT
BEGIN:STANDARD
TZOFFSETFROM:-0400
TZOFFSETTO:-0500
TZNAME:EST
DTSTART:20241103T060000
END:STANDARD
BEGIN:DAYLIGHT
TZOFFSETFROM:-0500
TZOFFSETTO:-0400
TZNAME:EDT
DTSTART:20250309T070000
END:DAYLIGHT
BEGIN:STANDARD
TZOFFSETFROM:-0400
TZOFFSETTO:-0500
TZNAME:EST
DTSTART:20251102T060000
END:STANDARD
END:VTIMEZONE
BEGIN:VEVENT
DTSTART;VALUE=DATE:20241031
DTEND;VALUE=DATE:20241101
DTSTAMP:20260424T203214
CREATED:20240927T154712Z
LAST-MODIFIED:20240927T154712Z
UID:3057-1730332800-1730419199@itacchelp.org
SUMMARY:Public Health Workforce Report DUE
DESCRIPTION:Details \n 
URL:https://itacchelp.org/event/public-health-workforce-report-due/
END:VEVENT
BEGIN:VEVENT
DTSTART;TZID=America/New_York:20241031T150000
DTEND;TZID=America/New_York:20241031T160000
DTSTAMP:20260424T203214
CREATED:20241018T202452Z
LAST-MODIFIED:20241024T155215Z
UID:3087-1730386800-1730390400@itacchelp.org
SUMMARY:Peer-2-Peer - Data Reporting Observations: Reflections from the FFY 2023 PPRs
DESCRIPTION:ITACC staff will review their observations about the reporting of PPR data and engage participants in the discussion of items for potential inclusion into a “PPR Quality Assurance Checklist for Data elements”. \nRegister Here! \n 
URL:https://itacchelp.org/event/peer-to-peer-data-reporting-observations-reflections-from-the-ffy-2023-pprs/
END:VEVENT
END:VCALENDAR