BEGIN:VCALENDAR
VERSION:2.0
PRODID:-//ITACC - ECPv6.15.20//NONSGML v1.0//EN
CALSCALE:GREGORIAN
METHOD:PUBLISH
X-ORIGINAL-URL:https://itacchelp.org
X-WR-CALDESC:Events for ITACC
REFRESH-INTERVAL;VALUE=DURATION:PT1H
X-Robots-Tag:noindex
X-PUBLISHED-TTL:PT1H
BEGIN:VTIMEZONE
TZID:America/New_York
BEGIN:DAYLIGHT
TZOFFSETFROM:-0500
TZOFFSETTO:-0400
TZNAME:EDT
DTSTART:20240310T070000
END:DAYLIGHT
BEGIN:STANDARD
TZOFFSETFROM:-0400
TZOFFSETTO:-0500
TZNAME:EST
DTSTART:20241103T060000
END:STANDARD
BEGIN:DAYLIGHT
TZOFFSETFROM:-0500
TZOFFSETTO:-0400
TZNAME:EDT
DTSTART:20250309T070000
END:DAYLIGHT
BEGIN:STANDARD
TZOFFSETFROM:-0400
TZOFFSETTO:-0500
TZNAME:EST
DTSTART:20251102T060000
END:STANDARD
BEGIN:DAYLIGHT
TZOFFSETFROM:-0500
TZOFFSETTO:-0400
TZNAME:EDT
DTSTART:20260308T070000
END:DAYLIGHT
BEGIN:STANDARD
TZOFFSETFROM:-0400
TZOFFSETTO:-0500
TZNAME:EST
DTSTART:20261101T060000
END:STANDARD
END:VTIMEZONE
BEGIN:VEVENT
DTSTART;TZID=America/New_York:20250212T150000
DTEND;TZID=America/New_York:20250212T160000
DTSTAMP:20260419T223335
CREATED:20250131T152533Z
LAST-MODIFIED:20250131T152533Z
UID:3233-1739372400-1739376000@itacchelp.org
SUMMARY:BUDDIES (Evaluation Capacity Building) Meeting
DESCRIPTION:Ensuring BUDDIES Is About U \nDuring this session\, Partnerships For Health will present key findings from the 2025 BUDDIES Survey. \nFollowing this\, they will lead a facilitated discussion with Councils to identify and prioritize evaluation training topics. \nThis collaborative process will allow for a deeper exploration of the prioritized topics\, ensuring that the 2025 Building Utilization-focused Developmental Disabilities Impact Evaluation Skills (BUDDIES) training is tailored to be practical\, actionable\, and focused on real-world utility. \n\nRegister to attend!
URL:https://itacchelp.org/event/buddies-evaluation-capacity-building-meeting/
END:VEVENT
END:VCALENDAR