BEGIN:VCALENDAR
VERSION:2.0
PRODID:-//ITACC - ECPv6.15.20//NONSGML v1.0//EN
CALSCALE:GREGORIAN
METHOD:PUBLISH
X-WR-CALNAME:ITACC
X-ORIGINAL-URL:https://itacchelp.org
X-WR-CALDESC:Events for ITACC
REFRESH-INTERVAL;VALUE=DURATION:PT1H
X-Robots-Tag:noindex
X-PUBLISHED-TTL:PT1H
BEGIN:VTIMEZONE
TZID:America/New_York
BEGIN:DAYLIGHT
TZOFFSETFROM:-0500
TZOFFSETTO:-0400
TZNAME:EDT
DTSTART:20240310T070000
END:DAYLIGHT
BEGIN:STANDARD
TZOFFSETFROM:-0400
TZOFFSETTO:-0500
TZNAME:EST
DTSTART:20241103T060000
END:STANDARD
BEGIN:DAYLIGHT
TZOFFSETFROM:-0500
TZOFFSETTO:-0400
TZNAME:EDT
DTSTART:20250309T070000
END:DAYLIGHT
BEGIN:STANDARD
TZOFFSETFROM:-0400
TZOFFSETTO:-0500
TZNAME:EST
DTSTART:20251102T060000
END:STANDARD
BEGIN:DAYLIGHT
TZOFFSETFROM:-0500
TZOFFSETTO:-0400
TZNAME:EDT
DTSTART:20260308T070000
END:DAYLIGHT
BEGIN:STANDARD
TZOFFSETFROM:-0400
TZOFFSETTO:-0500
TZNAME:EST
DTSTART:20261101T060000
END:STANDARD
END:VTIMEZONE
BEGIN:VEVENT
DTSTART;VALUE=DATE:20250801
DTEND;VALUE=DATE:20250802
DTSTAMP:20260425T204656
CREATED:20250624T173456Z
LAST-MODIFIED:20250709T192251Z
UID:3468-1754006400-1754092799@itacchelp.org
SUMMARY:FFY 2024 No Cost Extension Request DUE
DESCRIPTION:Please submit any FY2024 SCDD NCE requests as soon as the programmatic need is identified\, but no later than Friday\, August 1\, 2025. \nFor questions\, please review the email shared by Sara Newell-Perez on June 18th or reach out to your OIDD Program Specialist. \n  \n  \n 
URL:https://itacchelp.org/event/ffy-2024-no-cost-extension-request-due/
END:VEVENT
END:VCALENDAR