BEGIN:VCALENDAR
VERSION:2.0
PRODID:-//ITACC - ECPv6.15.20//NONSGML v1.0//EN
CALSCALE:GREGORIAN
METHOD:PUBLISH
X-WR-CALNAME:ITACC
X-ORIGINAL-URL:https://itacchelp.org
X-WR-CALDESC:Events for ITACC
REFRESH-INTERVAL;VALUE=DURATION:PT1H
X-Robots-Tag:noindex
X-PUBLISHED-TTL:PT1H
BEGIN:VTIMEZONE
TZID:America/New_York
BEGIN:DAYLIGHT
TZOFFSETFROM:-0500
TZOFFSETTO:-0400
TZNAME:EDT
DTSTART:20210314T070000
END:DAYLIGHT
BEGIN:STANDARD
TZOFFSETFROM:-0400
TZOFFSETTO:-0500
TZNAME:EST
DTSTART:20211107T060000
END:STANDARD
BEGIN:DAYLIGHT
TZOFFSETFROM:-0500
TZOFFSETTO:-0400
TZNAME:EDT
DTSTART:20220313T070000
END:DAYLIGHT
BEGIN:STANDARD
TZOFFSETFROM:-0400
TZOFFSETTO:-0500
TZNAME:EST
DTSTART:20221106T060000
END:STANDARD
BEGIN:DAYLIGHT
TZOFFSETFROM:-0500
TZOFFSETTO:-0400
TZNAME:EDT
DTSTART:20230312T070000
END:DAYLIGHT
BEGIN:STANDARD
TZOFFSETFROM:-0400
TZOFFSETTO:-0500
TZNAME:EST
DTSTART:20231105T060000
END:STANDARD
BEGIN:DAYLIGHT
TZOFFSETFROM:-0500
TZOFFSETTO:-0400
TZNAME:EDT
DTSTART:20240310T070000
END:DAYLIGHT
BEGIN:STANDARD
TZOFFSETFROM:-0400
TZOFFSETTO:-0500
TZNAME:EST
DTSTART:20241103T060000
END:STANDARD
END:VTIMEZONE
BEGIN:VEVENT
DTSTART;TZID=America/New_York:20230724T080000
DTEND;TZID=America/New_York:20230724T120000
DTSTAMP:20260419T210128
CREATED:20230331T220506Z
LAST-MODIFIED:20230331T220506Z
UID:2122-1690185600-1690200000@itacchelp.org
SUMMARY:Fiscal TA Roundtable with Minimum Allotment and Lower Councils
DESCRIPTION:This roundtable discussion will focus on fiscal topics for minimum allotment and lower Council staff. Topics will be gathered from Councils prior to the event.
URL:https://itacchelp.org/event/fiscal-ta-roundtable-with-minimum-allotment-and-lower-councils/
END:VEVENT
BEGIN:VEVENT
DTSTART;TZID=America/New_York:20230714T140000
DTEND;TZID=America/New_York:20230714T150000
DTSTAMP:20260419T210128
CREATED:20221209T153813Z
LAST-MODIFIED:20221209T153813Z
UID:1943-1689343200-1689346800@itacchelp.org
SUMMARY:AWP TA Office Hours
DESCRIPTION:Annual work plan questions\, answers\, and helpful hints from peers will be provided. \nA link will be sent the week of the meeting.
URL:https://itacchelp.org/event/awp-ta-office-hours/
END:VEVENT
BEGIN:VEVENT
DTSTART;TZID=America/New_York:20230630T140000
DTEND;TZID=America/New_York:20230630T150000
DTSTAMP:20260419T210128
CREATED:20230605T175557Z
LAST-MODIFIED:20230605T175557Z
UID:2191-1688133600-1688137200@itacchelp.org
SUMMARY:TA Office Hours: Annual work plan and state plan updates
DESCRIPTION:Zoom link to be provided.
URL:https://itacchelp.org/event/ta-office-hours-annual-work-plan-and-state-plan-updates/
END:VEVENT
BEGIN:VEVENT
DTSTART;TZID=America/New_York:20230627T140000
DTEND;TZID=America/New_York:20230627T153000
DTSTAMP:20260419T210128
CREATED:20230605T175303Z
LAST-MODIFIED:20230605T175303Z
UID:2187-1687874400-1687879800@itacchelp.org
SUMMARY:ACL Office of Fiscal Operations Webinar
DESCRIPTION:DD Council Directors\,\n \nThe Administration for Community Living\, Office of Fiscal Operations will hold a webinar on June 27th at 2pm ET to share important information with grantees. Council Executive Directors\, Council staff with fiscal responsibilities\, and Designated State Agency staff overseeing or conducting fiscal responsibilities for the Council’s award are highly encouraged to attend.\n\nTo participate\, please register in advance using the zoom link below:\nhttps://us02web.zoom.us/meeting/register/tZUsd-CgrzspEt3Ehaw5-b2f40cySsOIU0TC\n \nPlease share as appropriate with relevant staff and let me know if you have any questions. We look forward to your participation.\nThank you\,\nSara\n  \nSara Newell-Perez (she/her/hers)\nProgram Lead\, Administration on Disabilities\nAdministration for Community Living\nU.S. Department of Health and Human Services\n \nO: 202-795-7413ACL.gov | Facebook | TwitterSubscribe to ACL Updates\n \n \n 
URL:https://itacchelp.org/event/acl-office-of-fiscal-operations-webinar/
END:VEVENT
BEGIN:VEVENT
DTSTART;TZID=America/New_York:20230623T140000
DTEND;TZID=America/New_York:20230623T150000
DTSTAMP:20260419T210128
CREATED:20230605T175508Z
LAST-MODIFIED:20230605T175508Z
UID:2189-1687528800-1687532400@itacchelp.org
SUMMARY:TA Office Hours: Annual Work plans\, state plan updates
DESCRIPTION:Zoom link to be provided.
URL:https://itacchelp.org/event/ta-office-hours-annual-work-plans-state-plan-updates/
END:VEVENT
BEGIN:VEVENT
DTSTART;TZID=America/New_York:20230622T150000
DTEND;TZID=America/New_York:20230622T161500
DTSTAMP:20260419T210128
CREATED:20221209T153006Z
LAST-MODIFIED:20230515T223853Z
UID:1941-1687446000-1687450500@itacchelp.org
SUMMARY:Webinar: Annual Work Plan Development (FFY 24 and 25) and State Plan Updates
DESCRIPTION:Register to attend “Developing Annual Work Plans and State plan updates”
URL:https://itacchelp.org/event/webinar-annual-work-plan-development-ffy-24-and-25/
END:VEVENT
BEGIN:VEVENT
DTSTART;TZID=America/New_York:20230517T150000
DTEND;TZID=America/New_York:20230517T163000
DTSTAMP:20260419T210128
CREATED:20230308T141715Z
LAST-MODIFIED:20230310T152456Z
UID:2053-1684335600-1684341000@itacchelp.org
SUMMARY:OIDD T/TA Institute: Multi-Partner Evaluation Engagement
DESCRIPTION:Session description: Do you want to know more about how to engage multiple partners in your Council evaluation process? If so\, this session is for you! \nInstitute Registration
URL:https://itacchelp.org/event/oidd-t-ta-institute-collaborative-evaluation-engaging-evaluators-and-partners-in-the-process/
END:VEVENT
BEGIN:VEVENT
DTSTART;TZID=America/New_York:20230517T130000
DTEND;TZID=America/New_York:20230517T143000
DTSTAMP:20260419T210128
CREATED:20221209T152033Z
LAST-MODIFIED:20230310T152401Z
UID:1939-1684328400-1684333800@itacchelp.org
SUMMARY:OIDD T/TA Institute: Including People and Expanding Access through Accessible Language
DESCRIPTION:Session description: Attendees will explore strategies and learn about resources to inform language access efforts. \nInstitute Registration
URL:https://itacchelp.org/event/oidd-technical-assistance-institute-4/
END:VEVENT
BEGIN:VEVENT
DTSTART;TZID=America/New_York:20230516T150000
DTEND;TZID=America/New_York:20230516T163000
DTSTAMP:20260419T210128
CREATED:20230308T141224Z
LAST-MODIFIED:20230310T152830Z
UID:2048-1684249200-1684254600@itacchelp.org
SUMMARY:OIDD T/TA Institute: Let's Talk About It! How generational preferences impact Council projects
DESCRIPTION:Session description: This session provides attendees an opportunity to discuss how Councils can use the information on generational preferences to influence Council projects\, self-advocacy efforts\, and Council member engagement. Breakout rooms will be facilitated by the Institute Planning Committee members. \nInstitute Registration
URL:https://itacchelp.org/event/oidd-t-ta-institute-lets-talk-about-generational-preferences-impacts-council-projects/
END:VEVENT
BEGIN:VEVENT
DTSTART;TZID=America/New_York:20230516T130000
DTEND;TZID=America/New_York:20230516T143000
DTSTAMP:20260419T210128
CREATED:20221209T151941Z
LAST-MODIFIED:20230310T152619Z
UID:1937-1684242000-1684247400@itacchelp.org
SUMMARY:OIDD T/TA Institute: Leadership for Every Generation
DESCRIPTION:Session description: Attendees will hear from Kristin Scroggin\, a nationally known researcher and speaker on generational differences. This session will focus on generational preferences on how different generations like to lead and be led. Generational preferences on training\, feedback\, communication mediums\, and communication styles will be shared. \nInstitute Registration
URL:https://itacchelp.org/event/oidd-technical-assistance-institute-3/
END:VEVENT
BEGIN:VEVENT
DTSTART;TZID=America/New_York:20230511T153000
DTEND;TZID=America/New_York:20230511T164500
DTSTAMP:20260419T210128
CREATED:20230308T132208Z
LAST-MODIFIED:20230310T152603Z
UID:2044-1683819000-1683823500@itacchelp.org
SUMMARY:OIDD T/TA Institute: Recruiting\, Equipping\, and Engaging Council Members
DESCRIPTION:Session description: Attendees will explore inclusive outreach and recruitment strategies\, ways to prepare people to effectively serve on the Council\, and strategies to engage members in Council work. \nInstitute Registration
URL:https://itacchelp.org/event/oidd-t-ta-institute-recruiting-equipping-and-engaging-council-members-2/
END:VEVENT
BEGIN:VEVENT
DTSTART;TZID=America/New_York:20230511T130000
DTEND;TZID=America/New_York:20230511T150000
DTSTAMP:20260419T210128
CREATED:20221209T151849Z
LAST-MODIFIED:20230310T152549Z
UID:1935-1683810000-1683817200@itacchelp.org
SUMMARY:OIDD T/TA Institute: Board Inclusion/Beyond Tokenism
DESCRIPTION:Session description: This session features large group presentations and small group discussions. Attendees will hear about five best practices to enhance the capacity of organizations to have self-advocates as effective members of their Councils\, boards\, a policy-making bodies. Small group discussions will be led by people with developmental disabilities. \nInstitute Registration
URL:https://itacchelp.org/event/oidd-technical-assistance-institute-2/
END:VEVENT
BEGIN:VEVENT
DTSTART;TZID=America/New_York:20230510T150000
DTEND;TZID=America/New_York:20230510T163000
DTSTAMP:20260419T210128
CREATED:20230308T131508Z
LAST-MODIFIED:20230316T191804Z
UID:2038-1683730800-1683736200@itacchelp.org
SUMMARY:OIDD T/TA Institute: HCBS: Exploring Engagement Strategies
DESCRIPTION:Session description: Attendees will hear about the work and findings to date on home and community-based settings final rule. Council engagement strategies will be explored and highlighted. \nInstitute Registration
URL:https://itacchelp.org/event/oidd-t-ta-institute-hcbs-messaging-mobilizing-making-change-happen/
END:VEVENT
BEGIN:VEVENT
DTSTART;TZID=America/New_York:20230510T130000
DTEND;TZID=America/New_York:20230510T143000
DTSTAMP:20260419T210128
CREATED:20221209T151734Z
LAST-MODIFIED:20230310T152514Z
UID:1932-1683723600-1683729000@itacchelp.org
SUMMARY:OIDD T/TA Institute: ACL Updates
DESCRIPTION:Session description: Leadership and staff from the Administration for Community Living\, Administration on Disabilities\, Office of Intellectual and Developmental Disabilities will share information about federal agency initiatives and updates. \nInstitute Registration
URL:https://itacchelp.org/event/oidd-technical-assistance-institute/
END:VEVENT
BEGIN:VEVENT
DTSTART;TZID=America/New_York:20230420T150000
DTEND;TZID=America/New_York:20230420T163000
DTSTAMP:20260419T210128
CREATED:20230419T192853Z
LAST-MODIFIED:20230419T192853Z
UID:2134-1682002800-1682008200@itacchelp.org
SUMMARY:Webinar and P2P: Urgent Succession Planning
DESCRIPTION:Do you have a plan for unexpected staff interruptions? Have you considered how Council program operations will continue if something unexpected occurs? What about Council member leadership? Do you actively plan and nurture members to continue growing in their leadership roles? Join us to explore these topics and get ideas from your peers. \nRegister for the April 2023 event!
URL:https://itacchelp.org/event/webinar-and-p2p-urgent-succession-planning/
END:VEVENT
BEGIN:VEVENT
DTSTART;VALUE=DATE:20230331
DTEND;VALUE=DATE:20230401
DTSTAMP:20260419T210128
CREATED:20230202T195900Z
LAST-MODIFIED:20230202T195900Z
UID:2002-1680220800-1680307199@itacchelp.org
SUMMARY:CDC Vaccine Funds Report DUE
DESCRIPTION: 
URL:https://itacchelp.org/event/cdc-vaccine-funds-report-due/
END:VEVENT
BEGIN:VEVENT
DTSTART;TZID=America/New_York:20230330T150000
DTEND;TZID=America/New_York:20230330T160000
DTSTAMP:20260419T210128
CREATED:20221209T150949Z
LAST-MODIFIED:20230313T162435Z
UID:1928-1680188400-1680192000@itacchelp.org
SUMMARY:Peer-to-Peer (P2P): Sustaining investments: People and Products
DESCRIPTION:Sustaining Investments: People and Products. Discussion will focus on post-training engagement strategies for advocates and a problem-solving discussion around product sustainability – what to consider when determining how products like websites\, resource guides\, curriculums should be sustained after Council funding ends. \nRegister for the March P2P!
URL:https://itacchelp.org/event/peer-to-peer-p2p-meeting-4/
END:VEVENT
BEGIN:VEVENT
DTSTART;TZID=America/New_York:20230316T150000
DTEND;TZID=America/New_York:20230316T163000
DTSTAMP:20260419T210128
CREATED:20221205T185056Z
LAST-MODIFIED:20230302T141011Z
UID:1919-1678978800-1678984200@itacchelp.org
SUMMARY:BUDDIES Project ECHO Training - Session 2: Evaluative Thinking
DESCRIPTION:Session 2 will focus on Evaluative Thinking and how thinking with an evaluation mindset can add value to your work. We will also have a case presentation from Maine and you’ll be invited to share your thoughts and perspectives! \nRegister for BUDDIES Project Session 2.  Partnerships For Health will follow up prior to the session with the final meeting details. \nWe hope you can make it!
URL:https://itacchelp.org/event/buddies-project-echo-training-2/
END:VEVENT
BEGIN:VEVENT
DTSTART;TZID=America/New_York:20230223T150000
DTEND;TZID=America/New_York:20230223T163000
DTSTAMP:20260419T210128
CREATED:20221205T184956Z
LAST-MODIFIED:20230201T180932Z
UID:1917-1677164400-1677169800@itacchelp.org
SUMMARY:Equitable Language: Affirming People through Language
DESCRIPTION:Information and resources to improve messaging\, show respect\, and reinforce strength-based messaging principles. \nRegister to attend the Equitable Language information meeting
URL:https://itacchelp.org/event/webinar-equitable-language/
END:VEVENT
BEGIN:VEVENT
DTSTART;TZID=America/New_York:20230125T150000
DTEND;TZID=America/New_York:20230125T160000
DTSTAMP:20260419T210128
CREATED:20221205T184758Z
LAST-MODIFIED:20230105T200722Z
UID:1914-1674658800-1674662400@itacchelp.org
SUMMARY:Peer-to-Peer (P2P) Meeting
DESCRIPTION:Effective Strategies for developing Council Annual reports and information dissemination for the public. \nRegister for the 1/25 P2P here
URL:https://itacchelp.org/event/peer-to-peer-p2p-meeting-2/
END:VEVENT
BEGIN:VEVENT
DTSTART;TZID=America/New_York:20230119T150000
DTEND;TZID=America/New_York:20230119T163000
DTSTAMP:20260419T210128
CREATED:20221205T184643Z
LAST-MODIFIED:20230107T141213Z
UID:1912-1674140400-1674145800@itacchelp.org
SUMMARY:BUDDIES Project ECHO Training
DESCRIPTION:Evaluation Capacity Building TA effort. \nThe first session will be an orientation on the Project ECHO model and will highlight what you can expect from the next few years of sessions. It will be a great opportunity to learn more about the process and ask any questions you may have. \nRegister for Session 1 here. \nPartnerships For Health will follow up prior to the session with the final meeting details. \nWe look forward to seeing you there!
URL:https://itacchelp.org/event/buddies-project-echo-training/
END:VEVENT
BEGIN:VEVENT
DTSTART;VALUE=DATE:20221230
DTEND;VALUE=DATE:20221231
DTSTAMP:20260419T210128
CREATED:20221024T154217Z
LAST-MODIFIED:20221024T154217Z
UID:1844-1672358400-1672444799@itacchelp.org
SUMMARY:Program Performance Report DUE
DESCRIPTION:Submit your PPR in the Verity system.
URL:https://itacchelp.org/event/program-performance-report-due/
END:VEVENT
BEGIN:VEVENT
DTSTART;TZID=America/New_York:20221216T150000
DTEND;TZID=America/New_York:20221216T163000
DTSTAMP:20260419T210128
CREATED:20221024T203838Z
LAST-MODIFIED:20221024T203838Z
UID:1859-1671202800-1671208200@itacchelp.org
SUMMARY:PPR "TA Office Hours"
DESCRIPTION:A link will be shared prior to the meeting.
URL:https://itacchelp.org/event/ppr-ta-office-hours-5/
END:VEVENT
BEGIN:VEVENT
DTSTART;TZID=America/New_York:20221215T150000
DTEND;TZID=America/New_York:20221215T160000
DTSTAMP:20260419T210128
CREATED:20221202T205341Z
LAST-MODIFIED:20221202T205341Z
UID:1910-1671116400-1671120000@itacchelp.org
SUMMARY:Webinar: Navigating the ITACC Website
DESCRIPTION:Do you want to know more about what is on the ITACC website and what it has to offer?  If so\, Navigating the ITACC website informational session is for you. \nThis session will provide you information to assist you with successfully locating and using the resources provided on the ITACC website. \nRegister here to attend
URL:https://itacchelp.org/event/webinar-navigating-the-itacc-website/
END:VEVENT
BEGIN:VEVENT
DTSTART;TZID=America/New_York:20221209T140000
DTEND;TZID=America/New_York:20221209T150000
DTSTAMP:20260419T210128
CREATED:20221024T203758Z
LAST-MODIFIED:20221209T181643Z
UID:1857-1670594400-1670598000@itacchelp.org
SUMMARY:PPR "TA Office Hours"
DESCRIPTION:A link will be shared prior to the meeting.
URL:https://itacchelp.org/event/ppr-ta-office-hours-4/
END:VEVENT
BEGIN:VEVENT
DTSTART;TZID=America/New_York:20221202T140000
DTEND;TZID=America/New_York:20221202T153000
DTSTAMP:20260419T210128
CREATED:20221024T203601Z
LAST-MODIFIED:20221024T203654Z
UID:1852-1669989600-1669995000@itacchelp.org
SUMMARY:PPR "TA Office Hours"
DESCRIPTION:A link will be shared prior to the meeting.
URL:https://itacchelp.org/event/ppr-ta-office-hours-3/
END:VEVENT
BEGIN:VEVENT
DTSTART;TZID=America/New_York:20221129T150000
DTEND;TZID=America/New_York:20221129T160000
DTSTAMP:20260419T210128
CREATED:20221024T171741Z
LAST-MODIFIED:20221024T172424Z
UID:1846-1669734000-1669737600@itacchelp.org
SUMMARY:P2P: PPR Review Strategies and Tools
DESCRIPTION:Peer-to-Peer meetings provide you the opportunity to “tap into” the expertise of other DD Council staff.  During these meetings\, you can ask others to help with challenges\, brainstorm solutions to challenges\, get advice on issues and more! \nAnnual PPR review strategies and tools will be the topic this month. \nPlease register to attend the meeting. \nAfter registering\, you will receive a confirmation email containing information about joining the meeting. \n  \n 
URL:https://itacchelp.org/event/p2p-ppr-review-strategies-and-tools/
END:VEVENT
BEGIN:VEVENT
DTSTART;TZID=America/New_York:20221118T140000
DTEND;TZID=America/New_York:20221118T153000
DTSTAMP:20260419T210128
CREATED:20220928T141950Z
LAST-MODIFIED:20221021T221122Z
UID:1805-1668780000-1668785400@itacchelp.org
SUMMARY:PPR "TA Office Hours"
DESCRIPTION:Question and answers about the annual Program Performance Report will be addressed. \nA Zoom link will be provided the week of the event and shared through the ITACC listserv. \nTime listed is Eastern Time zone.
URL:https://itacchelp.org/event/ppr-ta-office-hours-2/
END:VEVENT
BEGIN:VEVENT
DTSTART;TZID=America/New_York:20221104T140000
DTEND;TZID=America/New_York:20221104T153000
DTSTAMP:20260419T210128
CREATED:20220928T141742Z
LAST-MODIFIED:20221021T221146Z
UID:1803-1667570400-1667575800@itacchelp.org
SUMMARY:PPR "TA Office Hours"
DESCRIPTION:Questions and answers related to developing the annual Program Performance report will be addressed. \nA Zoom link will be provided the week of the meeting through the ITACC listserv. \nListed time zone is Eastern Time.
URL:https://itacchelp.org/event/ppr-ta-office-hours/
END:VEVENT
BEGIN:VEVENT
DTSTART;TZID=America/New_York:20221103T150000
DTEND;TZID=America/New_York:20221103T163000
DTSTAMP:20260419T210128
CREATED:20221024T203421Z
LAST-MODIFIED:20221024T203707Z
UID:1850-1667487600-1667493000@itacchelp.org
SUMMARY:Diversity\, Inclusion\, Cultural and Linguistic Competence and Equity Committee
DESCRIPTION:If you are interested in joining this committee or want to hear the discussion\, please contact cmoon@nacdd.org.
URL:https://itacchelp.org/event/diversity-inclusion-cultural-and-linguistic-competence-and-equity-committee-diclc-and-e/
END:VEVENT
END:VCALENDAR