BEGIN:VCALENDAR
VERSION:2.0
PRODID:-//ITACC - ECPv6.15.20//NONSGML v1.0//EN
CALSCALE:GREGORIAN
METHOD:PUBLISH
X-WR-CALNAME:ITACC
X-ORIGINAL-URL:https://itacchelp.org
X-WR-CALDESC:Events for ITACC
REFRESH-INTERVAL;VALUE=DURATION:PT1H
X-Robots-Tag:noindex
X-PUBLISHED-TTL:PT1H
BEGIN:VTIMEZONE
TZID:America/New_York
BEGIN:DAYLIGHT
TZOFFSETFROM:-0500
TZOFFSETTO:-0400
TZNAME:EDT
DTSTART:20210314T070000
END:DAYLIGHT
BEGIN:STANDARD
TZOFFSETFROM:-0400
TZOFFSETTO:-0500
TZNAME:EST
DTSTART:20211107T060000
END:STANDARD
BEGIN:DAYLIGHT
TZOFFSETFROM:-0500
TZOFFSETTO:-0400
TZNAME:EDT
DTSTART:20220313T070000
END:DAYLIGHT
BEGIN:STANDARD
TZOFFSETFROM:-0400
TZOFFSETTO:-0500
TZNAME:EST
DTSTART:20221106T060000
END:STANDARD
BEGIN:DAYLIGHT
TZOFFSETFROM:-0500
TZOFFSETTO:-0400
TZNAME:EDT
DTSTART:20230312T070000
END:DAYLIGHT
BEGIN:STANDARD
TZOFFSETFROM:-0400
TZOFFSETTO:-0500
TZNAME:EST
DTSTART:20231105T060000
END:STANDARD
END:VTIMEZONE
BEGIN:VEVENT
DTSTART;TZID=America/New_York:20221209T140000
DTEND;TZID=America/New_York:20221209T150000
DTSTAMP:20260420T003836
CREATED:20221024T203758Z
LAST-MODIFIED:20221209T181643Z
UID:1857-1670594400-1670598000@itacchelp.org
SUMMARY:PPR "TA Office Hours"
DESCRIPTION:A link will be shared prior to the meeting.
URL:https://itacchelp.org/event/ppr-ta-office-hours-4/
END:VEVENT
BEGIN:VEVENT
DTSTART;TZID=America/New_York:20221202T140000
DTEND;TZID=America/New_York:20221202T153000
DTSTAMP:20260420T003836
CREATED:20221024T203601Z
LAST-MODIFIED:20221024T203654Z
UID:1852-1669989600-1669995000@itacchelp.org
SUMMARY:PPR "TA Office Hours"
DESCRIPTION:A link will be shared prior to the meeting.
URL:https://itacchelp.org/event/ppr-ta-office-hours-3/
END:VEVENT
BEGIN:VEVENT
DTSTART;TZID=America/New_York:20221129T150000
DTEND;TZID=America/New_York:20221129T160000
DTSTAMP:20260420T003836
CREATED:20221024T171741Z
LAST-MODIFIED:20221024T172424Z
UID:1846-1669734000-1669737600@itacchelp.org
SUMMARY:P2P: PPR Review Strategies and Tools
DESCRIPTION:Peer-to-Peer meetings provide you the opportunity to “tap into” the expertise of other DD Council staff.  During these meetings\, you can ask others to help with challenges\, brainstorm solutions to challenges\, get advice on issues and more! \nAnnual PPR review strategies and tools will be the topic this month. \nPlease register to attend the meeting. \nAfter registering\, you will receive a confirmation email containing information about joining the meeting. \n  \n 
URL:https://itacchelp.org/event/p2p-ppr-review-strategies-and-tools/
END:VEVENT
BEGIN:VEVENT
DTSTART;TZID=America/New_York:20221118T140000
DTEND;TZID=America/New_York:20221118T153000
DTSTAMP:20260420T003836
CREATED:20220928T141950Z
LAST-MODIFIED:20221021T221122Z
UID:1805-1668780000-1668785400@itacchelp.org
SUMMARY:PPR "TA Office Hours"
DESCRIPTION:Question and answers about the annual Program Performance Report will be addressed. \nA Zoom link will be provided the week of the event and shared through the ITACC listserv. \nTime listed is Eastern Time zone.
URL:https://itacchelp.org/event/ppr-ta-office-hours-2/
END:VEVENT
BEGIN:VEVENT
DTSTART;TZID=America/New_York:20221104T140000
DTEND;TZID=America/New_York:20221104T153000
DTSTAMP:20260420T003836
CREATED:20220928T141742Z
LAST-MODIFIED:20221021T221146Z
UID:1803-1667570400-1667575800@itacchelp.org
SUMMARY:PPR "TA Office Hours"
DESCRIPTION:Questions and answers related to developing the annual Program Performance report will be addressed. \nA Zoom link will be provided the week of the meeting through the ITACC listserv. \nListed time zone is Eastern Time.
URL:https://itacchelp.org/event/ppr-ta-office-hours/
END:VEVENT
BEGIN:VEVENT
DTSTART;TZID=America/New_York:20221103T150000
DTEND;TZID=America/New_York:20221103T163000
DTSTAMP:20260420T003836
CREATED:20221024T203421Z
LAST-MODIFIED:20221024T203707Z
UID:1850-1667487600-1667493000@itacchelp.org
SUMMARY:Diversity\, Inclusion\, Cultural and Linguistic Competence and Equity Committee
DESCRIPTION:If you are interested in joining this committee or want to hear the discussion\, please contact cmoon@nacdd.org.
URL:https://itacchelp.org/event/diversity-inclusion-cultural-and-linguistic-competence-and-equity-committee-diclc-and-e/
END:VEVENT
BEGIN:VEVENT
DTSTART;TZID=America/New_York:20221020T150000
DTEND;TZID=America/New_York:20221020T163000
DTSTAMP:20260420T003836
CREATED:20220926T142539Z
LAST-MODIFIED:20220926T142551Z
UID:1797-1666278000-1666283400@itacchelp.org
SUMMARY:Program Performance Report T/TA
DESCRIPTION:Register in advance for this meeting: \nAfter registering\, you will receive a confirmation email containing information about joining the meeting.
URL:https://itacchelp.org/event/program-performance-report-t-ta/
END:VEVENT
BEGIN:VEVENT
DTSTART;TZID=America/New_York:20220914T130000
DTEND;TZID=America/New_York:20220914T170000
DTSTAMP:20260420T003836
CREATED:20220420T171616Z
LAST-MODIFIED:20220815T134652Z
UID:1266-1663160400-1663174800@itacchelp.org
SUMMARY:New Executive Director Orientation
DESCRIPTION:Information\, resources\, and training to assist people new to the role of Executive Director for a DD Council. \nExecutive Directors will receive meeting links directly\, or you can contact smatney@nacdd.org
URL:https://itacchelp.org/event/new-executive-director-orientation/
END:VEVENT
BEGIN:VEVENT
DTSTART;TZID=America/New_York:20220913T130000
DTEND;TZID=America/New_York:20220913T170000
DTSTAMP:20260420T003836
CREATED:20220304T165716Z
LAST-MODIFIED:20220815T134724Z
UID:1005-1663074000-1663088400@itacchelp.org
SUMMARY:New Executive Director Orientation
DESCRIPTION:Information\, resources\, and training to assist people new to the role of Executive Director for a DD Council. \nExecutive Directors will receive meeting links directly\, or you can contact smatney@nacdd.org
URL:https://itacchelp.org/event/itacc-training-for-directors/
END:VEVENT
BEGIN:VEVENT
DTSTART;TZID=America/New_York:20220818T150000
DTEND;TZID=America/New_York:20220818T160000
DTSTAMP:20260420T003836
CREATED:20220519T201444Z
LAST-MODIFIED:20220811T132924Z
UID:1456-1660834800-1660838400@itacchelp.org
SUMMARY:Evaluation Capacity Building BUDDIES Project FINDINGS
DESCRIPTION:Individual and Organizational Assessment Findings will be shared. \nRegister to attend!
URL:https://itacchelp.org/event/evaluation-capacity-building-buddies-project-findings/
END:VEVENT
BEGIN:VEVENT
DTSTART;TZID=America/New_York:20220728T153000
DTEND;TZID=America/New_York:20220728T163000
DTSTAMP:20260420T003836
CREATED:20220709T134529Z
LAST-MODIFIED:20220709T134529Z
UID:1571-1659022200-1659025800@itacchelp.org
SUMMARY:Framework for Assessing Self-advocacy Outcomes
DESCRIPTION:We will review a framework that includes: \n\nCriteria for Evaluating Strength of Evidence-based Practice\nAddressing Individual-level Short-term Outcomes\nAddressing Individual-level Intermediate Outcomes\nAddressing Individual-level Long-term Outcomes
URL:https://itacchelp.org/event/framework-for-assessing-self-advocacy-outcomes/
END:VEVENT
BEGIN:VEVENT
DTSTART;TZID=America/New_York:20220715T080000
DTEND;TZID=America/New_York:20220715T170000
DTSTAMP:20260420T003836
CREATED:20220601T124139Z
LAST-MODIFIED:20220601T124242Z
UID:1492-1657872000-1657904400@itacchelp.org
SUMMARY:FY 2021 No Cost Extension Request DUE
DESCRIPTION:Dear DD Council Executive Directors\, \nThe performance of period for State Councils on Developmental Disabilities grants the Administration for Community Living (ACL) issued for FFY 2021 will expire on September 30\, 2022. ACL is offering DD Councils an option to request a No Cost Extension (NCE) for this expiring (FFY 2021) grant in response to the continued public health emergency in combatting COVID-19. ACL defines a NCE as an extension of time to a project period and/or budget period to complete the work of the grant under that period\, without additional Federal funds. \nTo request an NCE\, please develop and send a written justification to reflect your proposed plans to use the remaining funds during the extension. In summary\, your justification must be on official letterhead and must include the following pertinent information: \n\nThe Grant award number(s) for which an extension is being requested:\n\n\n\n\n2101XXSCC5 (insert your state’s grant number) and/or\n2101XXSCDD\n\n\n\n\nNeed to extend the grant:\n\nExplain why the project will not be completed by the Project End date;\nTypes of challenges encountered which caused the need to extend the grant\n\n\nUnfinished activities:\n\nIdentify unfinished activities to date; and\nProvide a work plan including a timeline of how these activities will be accomplished by the new proposed end date (12 months)\n\n\nUnobligated funds\n\nEstimate the amount of unobligated funds remaining in the grant; and\nBriefly describe how these funds will be spent during the extended period\n\nPlease keep in mind\, NCE requests will not be approved for the sole purpose of using unobligated balances.\n\n\n\n\n\nIf your agency is seeking a NCE for this award\, please submit a letter signed by your authorized representative to your OIDD Project Officer providing a justification for our review and approval. The deadline to submit this justification is July 15\, 2022. \nSincerely\,Sara \nSara Newell-Perez (she/her/hers)Program Lead\, Office on Intellectual and Developmental DisabilitiesAdministration for Community LivingU.S. Department of Health and Human ServicesO:202-795-7413ACL.gov | Facebook | TwitterSubscribe to ACL Updates
URL:https://itacchelp.org/event/no-cost-extension-request-due/
END:VEVENT
BEGIN:VEVENT
DTSTART;VALUE=DATE:20220715
DTEND;VALUE=DATE:20220716
DTSTAMP:20260420T003836
CREATED:20220623T154648Z
LAST-MODIFIED:20220623T164833Z
UID:1531-1657843200-1657929599@itacchelp.org
SUMMARY:CDC Funds to Expand COVID-19 Vaccine Access No Cost Extension request DUE
DESCRIPTION:Dear DD Council Executive Directors: \nACL has been authorized to offer a one-time\, no-cost extension (NCE) to DD Councils that are recipients of CDC funds to Expand COVID-19 Vaccine Access for People with Disabilities. The grant number is identified as “2101xxSCC5” where “xx” is your state code.  This extension would be till 9/30/2023.  If DD Councils would like to request this extension\, there would be additional reporting required\, including both the Federal Financial Report (FFR) and Program Performance Report (PPR). \nFor FFRs: \n1st annual FFR: Due 6/30/2022 AND \nFinal FFR without NCE: Due 1/31/2023 (120 days after the initial project end date of 9/30/2022) \nOR \n2nd annual FFR with NCE: Due 6/30/2023 AND \nFinal FFR with NCE: Due 1/31/2024 (120 days after the new project end date of 9/30/2023) \nFor PPRs: \nCDC grant PPR: Due 12/31/2022 AND \nCDC grant PPR with NCE: Due 12/31/2023 \nTo request an NCE\, please develop and send a written justification to reflect your proposed plans to use the remaining funds during the extension. In summary\, your justification must be on official letterhead and must include the following pertinent information: \n\nThe CDC grant award number(s) for which an extension is being requested\nNeed to extend the grant:\n\nExplain why the project will not be completed by the Project End date\nTypes of challenges encountered which caused the need to extend the grant\n\n\nUnfinished activities:\n\nIdentify unfinished activities to date; and\nProvide a work plan including a timeline of how these activities will be accomplished by the new proposed end date (12 months)\n\n\nUnobligated funds\n\nEstimate the amount of unobligated funds remaining in the grant; and\nBriefly describe how these funds will be spent during the extended period\n\nPlease keep in mind\, NCE requests will not be approved for the sole purpose of using unobligated balances.\n\n\n\n\n\nThe deadline to submit this justification is July 15\, 2022. \nIf your agency is seeking a NCE for this award\, please submit a letter signed by your authorized representative to your OIDD Project Officer providing a justification for our review and approval. Please note that this letter for requesting no cost extension with CDC funds must be a separate letter from a no cost extension request for FY 2021 DD Council funds. \nOn behalf of our OIDD team\, we wish you a nice weekend as we near the official start of summer. \nSincerely\,Sara \nSara Newell-Perez (she/her/hers)Program Lead\, Office on Intellectual and Developmental DisabilitiesAdministration for Community LivingU.S. Department of Health and Human ServicesO:202-795-7413ACL.gov | Facebook | TwitterSubscribe to ACL Updates \nACL is an operating division of the U.S. Department of Health and Human Services.
URL:https://itacchelp.org/event/cdc-funds-to-expand-covid-19-vaccine-access-no-cost-extension-due/
END:VEVENT
BEGIN:VEVENT
DTSTART;TZID=America/New_York:20220614T153000
DTEND;TZID=America/New_York:20220614T163000
DTSTAMP:20260420T003836
CREATED:20220519T194833Z
LAST-MODIFIED:20220519T194858Z
UID:1443-1655220600-1655224200@itacchelp.org
SUMMARY:Peer-to-Peer (P2P) Meeting
DESCRIPTION:The purpose of this P2P conversation is to share knowledge about how Council staff are using demographic data once it is collected. Guiding questions for our conversation include: \n1.           How the assessment of demographic data has led to meaningful changes in how Council efforts are implemented \n2.           How grant level data has been used to inform the grantee’s work and the Councils goals.
URL:https://itacchelp.org/event/peer-to-peer-p2p-meeting/
END:VEVENT
BEGIN:VEVENT
DTSTART;TZID=America/New_York:20220512T153000
DTEND;TZID=America/New_York:20220512T164500
DTSTAMP:20260420T003836
CREATED:20220504T210133Z
LAST-MODIFIED:20220511T150445Z
UID:1381-1652369400-1652373900@itacchelp.org
SUMMARY:TA Institute: Demonstrating Impact - Showcasing Councils Successes and Evaluation Initiative
DESCRIPTION:
URL:https://itacchelp.org/event/ta-institute-demonstrating-impact-showcasing-councils-successes-and-evaluation-initiative/
END:VEVENT
BEGIN:VEVENT
DTSTART;TZID=America/New_York:20220512T140000
DTEND;TZID=America/New_York:20220512T151500
DTSTAMP:20260420T003836
CREATED:20220504T204326Z
LAST-MODIFIED:20220511T150401Z
UID:1378-1652364000-1652368500@itacchelp.org
SUMMARY:TA Institute: Demonstrating Leadership - Positioning Councils as Known Leaders
DESCRIPTION:
URL:https://itacchelp.org/event/ta-institute-demonstrating-leadership-positioning-councils-as-known-leaders/
END:VEVENT
BEGIN:VEVENT
DTSTART;TZID=America/New_York:20220510T153000
DTEND;TZID=America/New_York:20220510T164500
DTSTAMP:20260420T003836
CREATED:20220307T225145Z
LAST-MODIFIED:20220420T172113Z
UID:1025-1652196600-1652201100@itacchelp.org
SUMMARY:TA Institute: Demonstrating Impact: Tactical Workshop on Messaging (Part 2)
DESCRIPTION:
URL:https://itacchelp.org/event/messaging-sharing-impacts-from-your-work/
END:VEVENT
BEGIN:VEVENT
DTSTART;TZID=America/New_York:20220510T140000
DTEND;TZID=America/New_York:20220510T151500
DTSTAMP:20260420T003836
CREATED:20220504T203727Z
LAST-MODIFIED:20220504T203814Z
UID:1375-1652191200-1652195700@itacchelp.org
SUMMARY:TA Institute: Demonstrating Impact - Messaging the Importance of Council Work (Part I)
DESCRIPTION:
URL:https://itacchelp.org/event/ta-institute-demonstrating-impact-messaging-the-importance-of-council-work-part-i/
END:VEVENT
BEGIN:VEVENT
DTSTART;TZID=America/New_York:20220505T160000
DTEND;TZID=America/New_York:20220505T170000
DTSTAMP:20260420T003836
CREATED:20220307T224441Z
LAST-MODIFIED:20220504T205057Z
UID:1021-1651766400-1651770000@itacchelp.org
SUMMARY:TA Institute: Demonstrating Fiscal Effectiveness
DESCRIPTION:
URL:https://itacchelp.org/event/managing-the-council-award-fiscal-session/
END:VEVENT
BEGIN:VEVENT
DTSTART;TZID=America/New_York:20220505T140000
DTEND;TZID=America/New_York:20220505T153000
DTSTAMP:20260420T003836
CREATED:20220307T224335Z
LAST-MODIFIED:20220322T190116Z
UID:1019-1651759200-1651764600@itacchelp.org
SUMMARY:TA Institute: ACL updates\, special topic\, and remarks from Commissioner Jacobs
DESCRIPTION:
URL:https://itacchelp.org/event/acl-updates-special-topic-and-remarks-from-commission-jacobs/
END:VEVENT
END:VCALENDAR