BEGIN:VCALENDAR
VERSION:2.0
PRODID:-//ITACC - ECPv6.15.20//NONSGML v1.0//EN
CALSCALE:GREGORIAN
METHOD:PUBLISH
X-WR-CALNAME:ITACC
X-ORIGINAL-URL:https://itacchelp.org
X-WR-CALDESC:Events for ITACC
REFRESH-INTERVAL;VALUE=DURATION:PT1H
X-Robots-Tag:noindex
X-PUBLISHED-TTL:PT1H
BEGIN:VTIMEZONE
TZID:America/New_York
BEGIN:DAYLIGHT
TZOFFSETFROM:-0500
TZOFFSETTO:-0400
TZNAME:EDT
DTSTART:20230312T070000
END:DAYLIGHT
BEGIN:STANDARD
TZOFFSETFROM:-0400
TZOFFSETTO:-0500
TZNAME:EST
DTSTART:20231105T060000
END:STANDARD
BEGIN:DAYLIGHT
TZOFFSETFROM:-0500
TZOFFSETTO:-0400
TZNAME:EDT
DTSTART:20240310T070000
END:DAYLIGHT
BEGIN:STANDARD
TZOFFSETFROM:-0400
TZOFFSETTO:-0500
TZNAME:EST
DTSTART:20241103T060000
END:STANDARD
BEGIN:DAYLIGHT
TZOFFSETFROM:-0500
TZOFFSETTO:-0400
TZNAME:EDT
DTSTART:20250309T070000
END:DAYLIGHT
BEGIN:STANDARD
TZOFFSETFROM:-0400
TZOFFSETTO:-0500
TZNAME:EST
DTSTART:20251102T060000
END:STANDARD
END:VTIMEZONE
BEGIN:VEVENT
DTSTART;TZID=America/New_York:20240912T150000
DTEND;TZID=America/New_York:20240912T160000
DTSTAMP:20260425T094607
CREATED:20231016T151015Z
LAST-MODIFIED:20240910T201256Z
UID:2477-1726153200-1726156800@itacchelp.org
SUMMARY:CANCELED Webinar: Program Performance Report (PPR) Training
DESCRIPTION:Thursday’s Program Performance Report (PPR) webinar has been canceled.\n\nWe will be in touch soon with rescheduling details.\n\nThank you for your patience and understanding.
URL:https://itacchelp.org/event/webinar-program-performance-report-ppr-training/
END:VEVENT
BEGIN:VEVENT
DTSTART;TZID=America/New_York:20240919T150000
DTEND;TZID=America/New_York:20240919T163000
DTSTAMP:20260425T094607
CREATED:20231013T212352Z
LAST-MODIFIED:20240807T182145Z
UID:2444-1726758000-1726763400@itacchelp.org
SUMMARY:BUDDIES Project: Quantitative and Qualitative Data Collection Methods
DESCRIPTION:Surveys\, focus groups\, interviews\, and more! Join us for the September BUDDIES Session focused on all different types of data collection. We’ll talk about different methods\, best times to use each\, and various options and considerations across the approaches. Don’t miss out on the session to learn how you can revamp some of your traditional data collection methods and collect impactful and important data for your Council. And if your Council is starting to prep for your 5-Year State Planning process\, this session comes at a good time to help you consider how data fits into your overall plan. We hope to see you there! \nWho: Council staff \nWhat: Data Collection \nWhen: Thursday\, September 19 from 3:00 – 4:30PM EST \nWhere: Virtual\, via Zoom \nHow: Register now! \n  \nREGISTRATION LINK: https://app.smartsheet.com/b/form/96c0c82fbc604efe867a5e1c6b992aa3
URL:https://itacchelp.org/event/buddies-project-quantitative-and-qualitative-data-collection-methods/
END:VEVENT
END:VCALENDAR