BEGIN:VCALENDAR
VERSION:2.0
PRODID:-//ITACC - ECPv6.15.20//NONSGML v1.0//EN
CALSCALE:GREGORIAN
METHOD:PUBLISH
X-ORIGINAL-URL:https://itacchelp.org
X-WR-CALDESC:Events for ITACC
REFRESH-INTERVAL;VALUE=DURATION:PT1H
X-Robots-Tag:noindex
X-PUBLISHED-TTL:PT1H
BEGIN:VTIMEZONE
TZID:America/New_York
BEGIN:DAYLIGHT
TZOFFSETFROM:-0500
TZOFFSETTO:-0400
TZNAME:EDT
DTSTART:20230312T070000
END:DAYLIGHT
BEGIN:STANDARD
TZOFFSETFROM:-0400
TZOFFSETTO:-0500
TZNAME:EST
DTSTART:20231105T060000
END:STANDARD
BEGIN:DAYLIGHT
TZOFFSETFROM:-0500
TZOFFSETTO:-0400
TZNAME:EDT
DTSTART:20240310T070000
END:DAYLIGHT
BEGIN:STANDARD
TZOFFSETFROM:-0400
TZOFFSETTO:-0500
TZNAME:EST
DTSTART:20241103T060000
END:STANDARD
BEGIN:DAYLIGHT
TZOFFSETFROM:-0500
TZOFFSETTO:-0400
TZNAME:EDT
DTSTART:20250309T070000
END:DAYLIGHT
BEGIN:STANDARD
TZOFFSETFROM:-0400
TZOFFSETTO:-0500
TZNAME:EST
DTSTART:20251102T060000
END:STANDARD
END:VTIMEZONE
BEGIN:VEVENT
DTSTART;TZID=America/New_York:20241114T150000
DTEND;TZID=America/New_York:20241114T160000
DTSTAMP:20260424T183805
CREATED:20241018T201314Z
LAST-MODIFIED:20241018T201401Z
UID:3084-1731596400-1731600000@itacchelp.org
SUMMARY:Leadership Lab: Supporting Council Member Leaders
DESCRIPTION:Topic: Boosting Engagement During Council Meetings \n\nJoin us on November 14\, 2024\, from 3:00 – 4:00 p.m. Eastern time for information\, ideas\, and discussion with peers about enhancing the effectiveness of your Council meetings and keeping everyone focused on why you are there and what you are working towards.\n\n\nWho should attend? Council members who are in leadership roles such as Chair\, Vice-Chair\, Executive Committee members and members leading or co-leading Council committees.\n\n\nRegister here!
URL:https://itacchelp.org/event/leadership-lab-supporting-council-member-leaders/
END:VEVENT
BEGIN:VEVENT
DTSTART;TZID=America/New_York:20241122T130000
DTEND;TZID=America/New_York:20241122T143000
DTSTAMP:20260424T183805
CREATED:20241101T191004Z
LAST-MODIFIED:20241101T191004Z
UID:3138-1732280400-1732285800@itacchelp.org
SUMMARY:State of the States Webinar for Council Staff
DESCRIPTION:How can DD Council Staff support the data literacy of Council members? \nThe State of the States in Intellectual and Developmental Disabilities Ongoing Longitudinal Data Project of National Significance (PNS) is partnering with the ITACC to develop a special training series focused on understanding national I/DD data\, enhancing data literacy\, improving data accessibility\, and using data for storytelling. We invite you to join us for Session 4 for DD Council staff in November. Some areas that will be covered include data use\, data sources\, reliability of data\, and data for decision making. \nDate: November 22\, 2024\nTime: 1:00 PM – 2:30 PM EST\nWho Should Attend: Open to All DD Council Staff \nRegister Here!
URL:https://itacchelp.org/event/state-of-the-states-webinar-for-council-staff/
END:VEVENT
END:VCALENDAR