BEGIN:VCALENDAR
VERSION:2.0
PRODID:-//ITACC - ECPv6.15.20//NONSGML v1.0//EN
CALSCALE:GREGORIAN
METHOD:PUBLISH
X-ORIGINAL-URL:https://itacchelp.org
X-WR-CALDESC:Events for ITACC
REFRESH-INTERVAL;VALUE=DURATION:PT1H
X-Robots-Tag:noindex
X-PUBLISHED-TTL:PT1H
BEGIN:VTIMEZONE
TZID:America/New_York
BEGIN:DAYLIGHT
TZOFFSETFROM:-0500
TZOFFSETTO:-0400
TZNAME:EDT
DTSTART:20240310T070000
END:DAYLIGHT
BEGIN:STANDARD
TZOFFSETFROM:-0400
TZOFFSETTO:-0500
TZNAME:EST
DTSTART:20241103T060000
END:STANDARD
BEGIN:DAYLIGHT
TZOFFSETFROM:-0500
TZOFFSETTO:-0400
TZNAME:EDT
DTSTART:20250309T070000
END:DAYLIGHT
BEGIN:STANDARD
TZOFFSETFROM:-0400
TZOFFSETTO:-0500
TZNAME:EST
DTSTART:20251102T060000
END:STANDARD
BEGIN:DAYLIGHT
TZOFFSETFROM:-0500
TZOFFSETTO:-0400
TZNAME:EDT
DTSTART:20260308T070000
END:DAYLIGHT
BEGIN:STANDARD
TZOFFSETFROM:-0400
TZOFFSETTO:-0500
TZNAME:EST
DTSTART:20261101T060000
END:STANDARD
END:VTIMEZONE
BEGIN:VEVENT
DTSTART;TZID=America/New_York:20251107T140000
DTEND;TZID=America/New_York:20251107T150000
DTSTAMP:20260424T203043
CREATED:20251008T173246Z
LAST-MODIFIED:20251008T173246Z
UID:3577-1762524000-1762527600@itacchelp.org
SUMMARY:PPR TA Office Hours
DESCRIPTION:We will review the answers to any questions asked through the “rapid response” service. \nExpected content for Sections I\, II and III will be reviewed. \nBring your questions or items for clarification for any part of the report with you! \nA Zoom meeting room link will be posted on the ITACC list serve on Wednesday before the office hours session.
URL:https://itacchelp.org/event/ppr-ta-office-hours-11/
LOCATION:Zoom
END:VEVENT
BEGIN:VEVENT
DTSTART;TZID=America/New_York:20251114T140000
DTEND;TZID=America/New_York:20251114T150000
DTSTAMP:20260424T203043
CREATED:20251008T173404Z
LAST-MODIFIED:20251008T173404Z
UID:3580-1763128800-1763132400@itacchelp.org
SUMMARY:PPR TA Office Hours
DESCRIPTION:We will review the answers to any questions asked through the “rapid response” service. \nExpected content for Sections IV will be reviewed. \nBring your questions or items for clarification for any part of the report with you! \nA Zoom meeting room link will be posted on the ITACC list serve on Wednesday before the office hours session.
URL:https://itacchelp.org/event/ppr-ta-office-hours-12/
LOCATION:Zoom
END:VEVENT
BEGIN:VEVENT
DTSTART;TZID=America/New_York:20251121T140000
DTEND;TZID=America/New_York:20251121T150000
DTSTAMP:20260424T203043
CREATED:20251008T173638Z
LAST-MODIFIED:20251008T173638Z
UID:3582-1763733600-1763737200@itacchelp.org
SUMMARY:PPR TA Office Hours
DESCRIPTION:We will review the answers to any questions asked through the “rapid response” service. \nExpected content for Section V will be reviewed. \nBring your questions or items for clarification for any part of the report with you! \nA Zoom meeting room link will be posted on the ITACC list serve on Wednesday before the office hours session.
URL:https://itacchelp.org/event/ppr-ta-office-hours-13/
LOCATION:Zoom
END:VEVENT
END:VCALENDAR